BEGIN:VCALENDAR
VERSION:2.0
PRODID:-//La Swing Factory - ECPv6.15.20//NONSGML v1.0//EN
CALSCALE:GREGORIAN
METHOD:PUBLISH
X-ORIGINAL-URL:https://laswingfactory.com
X-WR-CALDESC:Évènements pour La Swing Factory
REFRESH-INTERVAL;VALUE=DURATION:PT1H
X-Robots-Tag:noindex
X-PUBLISHED-TTL:PT1H
BEGIN:VTIMEZONE
TZID:Europe/Paris
BEGIN:DAYLIGHT
TZOFFSETFROM:+0100
TZOFFSETTO:+0200
TZNAME:CEST
DTSTART:20170326T010000
END:DAYLIGHT
BEGIN:STANDARD
TZOFFSETFROM:+0200
TZOFFSETTO:+0100
TZNAME:CET
DTSTART:20171029T010000
END:STANDARD
BEGIN:DAYLIGHT
TZOFFSETFROM:+0100
TZOFFSETTO:+0200
TZNAME:CEST
DTSTART:20180325T010000
END:DAYLIGHT
BEGIN:STANDARD
TZOFFSETFROM:+0200
TZOFFSETTO:+0100
TZNAME:CET
DTSTART:20181028T010000
END:STANDARD
BEGIN:DAYLIGHT
TZOFFSETFROM:+0100
TZOFFSETTO:+0200
TZNAME:CEST
DTSTART:20190331T010000
END:DAYLIGHT
BEGIN:STANDARD
TZOFFSETFROM:+0200
TZOFFSETTO:+0100
TZNAME:CET
DTSTART:20191027T010000
END:STANDARD
BEGIN:DAYLIGHT
TZOFFSETFROM:+0100
TZOFFSETTO:+0200
TZNAME:CEST
DTSTART:20200329T010000
END:DAYLIGHT
BEGIN:STANDARD
TZOFFSETFROM:+0200
TZOFFSETTO:+0100
TZNAME:CET
DTSTART:20201025T010000
END:STANDARD
BEGIN:DAYLIGHT
TZOFFSETFROM:+0100
TZOFFSETTO:+0200
TZNAME:CEST
DTSTART:20210328T010000
END:DAYLIGHT
BEGIN:STANDARD
TZOFFSETFROM:+0200
TZOFFSETTO:+0100
TZNAME:CET
DTSTART:20211031T010000
END:STANDARD
END:VTIMEZONE
BEGIN:VEVENT
DTSTART;TZID=Europe/Paris:20200407T193000
DTEND;TZID=Europe/Paris:20200407T210000
DTSTAMP:20260421T100703
CREATED:20200129T094006Z
LAST-MODIFIED:20200314T092100Z
UID:10000145-1586287800-1586293200@laswingfactory.com
SUMMARY:Les mardis swing SUSPENDU
DESCRIPTION:Tous les premiers et troisième mardi du mois\, entraînement libre \nC’est le bon moment pour évoluer et répéter les techniques vues en cours 🙂 \nRéservés aux élèves de La Swing Factory
URL:https://laswingfactory.com/agenda/les-mardis-swing-5/
LOCATION:Ecole Pauline Kergomard\, 6 rue du Cosmos\, Quimper\, 29000\, France
CATEGORIES:Evènement réservé à La Swing Factory
END:VEVENT
BEGIN:VEVENT
DTSTART;TZID=Europe/Paris:20200317T193000
DTEND;TZID=Europe/Paris:20200317T210000
DTSTAMP:20260421T100703
CREATED:20200129T093928Z
LAST-MODIFIED:20200314T092400Z
UID:10000144-1584473400-1584478800@laswingfactory.com
SUMMARY:Les mardis swing SUSPENDU
DESCRIPTION:Tous les premiers et troisième mardi du mois\, entraînement libre \nC’est le bon moment pour évoluer et répéter les techniques vues en cours 🙂 \nRéservés aux élèves de La Swing Factory
URL:https://laswingfactory.com/agenda/les-mardis-swing-4/
LOCATION:Ecole Pauline Kergomard\, 6 rue du Cosmos\, Quimper\, 29000\, France
CATEGORIES:Evènement réservé à La Swing Factory
END:VEVENT
BEGIN:VEVENT
DTSTART;TZID=Europe/Paris:20200303T193000
DTEND;TZID=Europe/Paris:20200303T210000
DTSTAMP:20260421T100703
CREATED:20200129T093853Z
LAST-MODIFIED:20200129T093853Z
UID:10000143-1583263800-1583269200@laswingfactory.com
SUMMARY:Les mardis swing
DESCRIPTION:Tous les premiers et troisième mardi du mois\, entraînement libre \nC’est le bon moment pour évoluer et répéter les techniques vues en cours 🙂 \nRéservés aux élèves de La Swing Factory
URL:https://laswingfactory.com/agenda/les-mardis-swing-3/
LOCATION:Ecole Pauline Kergomard\, 6 rue du Cosmos\, Quimper\, 29000\, France
CATEGORIES:Evènement réservé à La Swing Factory
END:VEVENT
BEGIN:VEVENT
DTSTART;TZID=Europe/Paris:20200218T193000
DTEND;TZID=Europe/Paris:20200218T210000
DTSTAMP:20260421T100703
CREATED:20200129T093754Z
LAST-MODIFIED:20200129T093754Z
UID:10000142-1582054200-1582059600@laswingfactory.com
SUMMARY:Les mardis swing
DESCRIPTION:Tous les premiers et troisième mardi du mois\, entraînement libre \nC’est le bon moment pour évoluer et répéter les techniques vues en cours 🙂 \nRéservés aux élèves de La Swing Factory
URL:https://laswingfactory.com/agenda/les-mardis-swing-2/
LOCATION:Ecole Pauline Kergomard\, 6 rue du Cosmos\, Quimper\, 29000\, France
CATEGORIES:Evènement réservé à La Swing Factory
END:VEVENT
BEGIN:VEVENT
DTSTART;TZID=Europe/Paris:20200204T193000
DTEND;TZID=Europe/Paris:20200204T210000
DTSTAMP:20260421T100703
CREATED:20200109T132201Z
LAST-MODIFIED:20200129T093626Z
UID:10000218-1580844600-1580850000@laswingfactory.com
SUMMARY:Les mardis swing
DESCRIPTION:Tous les premiers et troisième mardi du mois\, entraînement libre \nC’est le bon moment pour évoluer et répéter les techniques vues en cours 🙂 \nRéservés aux élèves de La Swing Factory
URL:https://laswingfactory.com/agenda/les-mardis-swing/
LOCATION:Ecole Pauline Kergomard\, 6 rue du Cosmos\, Quimper\, 29000\, France
CATEGORIES:Evènement réservé à La Swing Factory
END:VEVENT
BEGIN:VEVENT
DTSTART;TZID=Europe/Paris:20200117T200000
DTEND;TZID=Europe/Paris:20200117T230000
DTSTAMP:20260421T100703
CREATED:20200109T123539Z
LAST-MODIFIED:20200109T123539Z
UID:10000217-1579291200-1579302000@laswingfactory.com
SUMMARY:Quinquis de l'épiphanie
DESCRIPTION:Première soirée swing en mode auberge espagnole ! On fête l’Épiphanie 🙂 A vos recettes ! \nAtelier blues à 20h \nRéservée aux élèves de La Swing Factory
URL:https://laswingfactory.com/agenda/quinquis-de-lepiphanie/
LOCATION:Le Quinquis Fouesnant\, 19 chemin du quinquis\, Fouesnant\, 29170\, France
CATEGORIES:Evènement réservé à La Swing Factory
GEO:47°52'14.9"N;3°59'48.1"W
X-APPLE-STRUCTURED-LOCATION;VALUE=URI;X-ADDRESS=Le Quinquis Fouesnant 19 chemin du quinquis Fouesnant 29170 France;X-APPLE-RADIUS=500;X-TITLE=19 chemin du quinquis:geo:3°59'48.1"W,47°52'14.9"N
END:VEVENT
BEGIN:VEVENT
DTSTART;TZID=Europe/Paris:20191114T190000
DTEND;TZID=Europe/Paris:20191114T220000
DTSTAMP:20260421T100703
CREATED:20191101T073642Z
LAST-MODIFIED:20191101T073642Z
UID:10000212-1573758000-1573768800@laswingfactory.com
SUMMARY:Pratique libre des vacances LSF
DESCRIPTION:Pratique libre réservée aux élèves LSF
URL:https://laswingfactory.com/agenda/pratique-libre-des-vacances-lsf-2/
LOCATION:Salle Denise Larzul\, 3 allée Louise Michel\, Quimper\, 29000\, France
CATEGORIES:Evènement réservé à La Swing Factory
END:VEVENT
BEGIN:VEVENT
DTSTART;TZID=Europe/Paris:20191113T190000
DTEND;TZID=Europe/Paris:20191113T220000
DTSTAMP:20260421T100703
CREATED:20191101T073550Z
LAST-MODIFIED:20191101T073550Z
UID:10000211-1573671600-1573682400@laswingfactory.com
SUMMARY:Pratique libre des vacances LSF
DESCRIPTION:Pratique libre tout niveau \nRéservé aux élèves LSF
URL:https://laswingfactory.com/agenda/pratique-libre-des-vacances-lsf/
LOCATION:Salle Denise Larzul\, 3 allée Louise Michel\, Quimper\, 29000\, France
CATEGORIES:Evènement réservé à La Swing Factory
END:VEVENT
BEGIN:VEVENT
DTSTART;TZID=Europe/Paris:20191105T193000
DTEND;TZID=Europe/Paris:20191105T210000
DTSTAMP:20260421T100703
CREATED:20191101T073407Z
LAST-MODIFIED:20191101T073407Z
UID:10000210-1572982200-1572987600@laswingfactory.com
SUMMARY:Pratique libre LSF
DESCRIPTION:Pratique du mardi \nRéservé aux élèves LSF
URL:https://laswingfactory.com/agenda/pratique-libre-lsf/
LOCATION:Ecole Pauline Kergomard\, 6 rue du Cosmos\, Quimper\, 29000\, France
CATEGORIES:Evènement réservé à La Swing Factory
END:VEVENT
BEGIN:VEVENT
DTSTART;TZID=Europe/Paris:20191025T200000
DTEND;TZID=Europe/Paris:20191025T233000
DTSTAMP:20260421T100703
CREATED:20191015T135632Z
LAST-MODIFIED:20191015T135632Z
UID:10000203-1572033600-1572046200@laswingfactory.com
SUMMARY:Auberge espagnole de La Swing Factory
DESCRIPTION:Rendez-vous pour notre auberge espagnole 🙂 \nApporte de quoi partager à boire et à manger 😉 \nRéservée aux élèves de La Swing Factory et leur famille. \n 
URL:https://laswingfactory.com/agenda/auberge-espagnole-de-la-swing-factory/
LOCATION:Le Quinquis Fouesnant\, 19 chemin du quinquis\, Fouesnant\, 29170\, France
CATEGORIES:Evènement réservé à La Swing Factory
GEO:47°52'14.9"N;3°59'48.1"W
X-APPLE-STRUCTURED-LOCATION;VALUE=URI;X-ADDRESS=Le Quinquis Fouesnant 19 chemin du quinquis Fouesnant 29170 France;X-APPLE-RADIUS=500;X-TITLE=19 chemin du quinquis:geo:3°59'48.1"W,47°52'14.9"N
END:VEVENT
BEGIN:VEVENT
DTSTART;TZID=Europe/Paris:20190321T193000
DTEND;TZID=Europe/Paris:20190321T210000
DTSTAMP:20260421T100703
CREATED:20190311T230236Z
LAST-MODIFIED:20190311T230236Z
UID:10000192-1553196600-1553202000@laswingfactory.com
SUMMARY:Pratique libre réservé La Swing Factory
DESCRIPTION:Pendant les vacances de l’école\, vous pouvez venir pratiquer et vous entraîner à QUIMPER. \nRéservées aux membres de La Swing Factory
URL:https://laswingfactory.com/agenda/pratique-libre-reserve-la-swing-factory-2/2019-03-21/
LOCATION:Salle Denise Larzul\, 3 allée Louise Michel\, Quimper\, 29000\, France
CATEGORIES:Evènement réservé à La Swing Factory
END:VEVENT
BEGIN:VEVENT
DTSTART;TZID=Europe/Paris:20190320T193000
DTEND;TZID=Europe/Paris:20190320T210000
DTSTAMP:20260421T100703
CREATED:20190311T230103Z
LAST-MODIFIED:20190311T230103Z
UID:10000190-1553110200-1553115600@laswingfactory.com
SUMMARY:Pratique libre réservé La Swing Factory
DESCRIPTION:Pendant les vacances de l’école\, vous pouvez venir pratiquer et vous entraîner à QUIMPER. \nRéservées aux membres de La Swing Factory
URL:https://laswingfactory.com/agenda/pratique-libre-reserve-la-swing-factory/2019-03-20/
LOCATION:Salle Denise Larzul\, 3 allée Louise Michel\, Quimper\, 29000\, France
CATEGORIES:Evènement réservé à La Swing Factory
END:VEVENT
BEGIN:VEVENT
DTSTART;TZID=Europe/Paris:20190314T193000
DTEND;TZID=Europe/Paris:20190314T210000
DTSTAMP:20260421T100703
CREATED:20190311T230236Z
LAST-MODIFIED:20190311T230236Z
UID:10000191-1552591800-1552597200@laswingfactory.com
SUMMARY:Pratique libre réservé La Swing Factory
DESCRIPTION:Pendant les vacances de l’école\, vous pouvez venir pratiquer et vous entraîner à QUIMPER. \nRéservées aux membres de La Swing Factory
URL:https://laswingfactory.com/agenda/pratique-libre-reserve-la-swing-factory-2/2019-03-14/
LOCATION:Salle Denise Larzul\, 3 allée Louise Michel\, Quimper\, 29000\, France
CATEGORIES:Evènement réservé à La Swing Factory
END:VEVENT
BEGIN:VEVENT
DTSTART;TZID=Europe/Paris:20190313T193000
DTEND;TZID=Europe/Paris:20190313T210000
DTSTAMP:20260421T100703
CREATED:20190311T230103Z
LAST-MODIFIED:20190311T230103Z
UID:10000189-1552505400-1552510800@laswingfactory.com
SUMMARY:Pratique libre réservé La Swing Factory
DESCRIPTION:Pendant les vacances de l’école\, vous pouvez venir pratiquer et vous entraîner à QUIMPER. \nRéservées aux membres de La Swing Factory
URL:https://laswingfactory.com/agenda/pratique-libre-reserve-la-swing-factory/2019-03-13/
LOCATION:Salle Denise Larzul\, 3 allée Louise Michel\, Quimper\, 29000\, France
CATEGORIES:Evènement réservé à La Swing Factory
END:VEVENT
BEGIN:VEVENT
DTSTART;TZID=Europe/Paris:20181221T200000
DTEND;TZID=Europe/Paris:20181221T233000
DTSTAMP:20260421T100703
CREATED:20181201T094641Z
LAST-MODIFIED:20181205T144239Z
UID:10000180-1545422400-1545435000@laswingfactory.com
SUMMARY:Noël du Quinquis
DESCRIPTION:La Swing Factory organise pour ses élèves son Noël \nÉvènement réservé aux élèves de La Swing Factory.\nAuberge espagnole\nTenue chique !
URL:https://laswingfactory.com/agenda/noel-du-quinquis-reserve-uniquement-aux-membres-la-swing-factory-2018-2019/
LOCATION:Le Quinquis Fouesnant\, 19 chemin du quinquis\, Fouesnant\, 29170\, France
CATEGORIES:Evènement réservé à La Swing Factory
ATTACH;FMTTYPE=image/jpeg:https://laswingfactory.com/wp-content/uploads/2018/12/noel-la-swing-factory-quinquis-fouesnant.jpg
GEO:47°52'14.9"N;3°59'48.1"W
X-APPLE-STRUCTURED-LOCATION;VALUE=URI;X-ADDRESS=Le Quinquis Fouesnant 19 chemin du quinquis Fouesnant 29170 France;X-APPLE-RADIUS=500;X-TITLE=19 chemin du quinquis:geo:3°59'48.1"W,47°52'14.9"N
END:VEVENT
END:VCALENDAR