BEGIN:VCALENDAR
VERSION:2.0
PRODID:-//La Swing Factory - ECPv6.15.20//NONSGML v1.0//EN
CALSCALE:GREGORIAN
METHOD:PUBLISH
X-WR-CALNAME:La Swing Factory
X-ORIGINAL-URL:https://laswingfactory.com
X-WR-CALDESC:Évènements pour La Swing Factory
REFRESH-INTERVAL;VALUE=DURATION:PT1H
X-Robots-Tag:noindex
X-PUBLISHED-TTL:PT1H
BEGIN:VTIMEZONE
TZID:Europe/Paris
BEGIN:DAYLIGHT
TZOFFSETFROM:+0100
TZOFFSETTO:+0200
TZNAME:CEST
DTSTART:20170326T010000
END:DAYLIGHT
BEGIN:STANDARD
TZOFFSETFROM:+0200
TZOFFSETTO:+0100
TZNAME:CET
DTSTART:20171029T010000
END:STANDARD
BEGIN:DAYLIGHT
TZOFFSETFROM:+0100
TZOFFSETTO:+0200
TZNAME:CEST
DTSTART:20180325T010000
END:DAYLIGHT
BEGIN:STANDARD
TZOFFSETFROM:+0200
TZOFFSETTO:+0100
TZNAME:CET
DTSTART:20181028T010000
END:STANDARD
BEGIN:DAYLIGHT
TZOFFSETFROM:+0100
TZOFFSETTO:+0200
TZNAME:CEST
DTSTART:20190331T010000
END:DAYLIGHT
BEGIN:STANDARD
TZOFFSETFROM:+0200
TZOFFSETTO:+0100
TZNAME:CET
DTSTART:20191027T010000
END:STANDARD
BEGIN:DAYLIGHT
TZOFFSETFROM:+0100
TZOFFSETTO:+0200
TZNAME:CEST
DTSTART:20200329T010000
END:DAYLIGHT
BEGIN:STANDARD
TZOFFSETFROM:+0200
TZOFFSETTO:+0100
TZNAME:CET
DTSTART:20201025T010000
END:STANDARD
END:VTIMEZONE
BEGIN:VEVENT
DTSTART;TZID=Europe/Paris:20190321T193000
DTEND;TZID=Europe/Paris:20190321T210000
DTSTAMP:20260419T164709
CREATED:20190311T230236Z
LAST-MODIFIED:20190311T230236Z
UID:10000192-1553196600-1553202000@laswingfactory.com
SUMMARY:Pratique libre réservé La Swing Factory
DESCRIPTION:Pendant les vacances de l’école\, vous pouvez venir pratiquer et vous entraîner à QUIMPER. \nRéservées aux membres de La Swing Factory
URL:https://laswingfactory.com/agenda/pratique-libre-reserve-la-swing-factory-2/2019-03-21/
LOCATION:Salle Denise Larzul\, 3 allée Louise Michel\, Quimper\, 29000\, France
CATEGORIES:Evènement réservé à La Swing Factory
END:VEVENT
BEGIN:VEVENT
DTSTART;TZID=Europe/Paris:20190320T193000
DTEND;TZID=Europe/Paris:20190320T210000
DTSTAMP:20260419T164709
CREATED:20190311T230103Z
LAST-MODIFIED:20190311T230103Z
UID:10000190-1553110200-1553115600@laswingfactory.com
SUMMARY:Pratique libre réservé La Swing Factory
DESCRIPTION:Pendant les vacances de l’école\, vous pouvez venir pratiquer et vous entraîner à QUIMPER. \nRéservées aux membres de La Swing Factory
URL:https://laswingfactory.com/agenda/pratique-libre-reserve-la-swing-factory/2019-03-20/
LOCATION:Salle Denise Larzul\, 3 allée Louise Michel\, Quimper\, 29000\, France
CATEGORIES:Evènement réservé à La Swing Factory
END:VEVENT
BEGIN:VEVENT
DTSTART;TZID=Europe/Paris:20190314T193000
DTEND;TZID=Europe/Paris:20190314T210000
DTSTAMP:20260419T164709
CREATED:20190311T230236Z
LAST-MODIFIED:20190311T230236Z
UID:10000191-1552591800-1552597200@laswingfactory.com
SUMMARY:Pratique libre réservé La Swing Factory
DESCRIPTION:Pendant les vacances de l’école\, vous pouvez venir pratiquer et vous entraîner à QUIMPER. \nRéservées aux membres de La Swing Factory
URL:https://laswingfactory.com/agenda/pratique-libre-reserve-la-swing-factory-2/2019-03-14/
LOCATION:Salle Denise Larzul\, 3 allée Louise Michel\, Quimper\, 29000\, France
CATEGORIES:Evènement réservé à La Swing Factory
END:VEVENT
BEGIN:VEVENT
DTSTART;TZID=Europe/Paris:20190313T193000
DTEND;TZID=Europe/Paris:20190313T210000
DTSTAMP:20260419T164709
CREATED:20190311T230103Z
LAST-MODIFIED:20190311T230103Z
UID:10000189-1552505400-1552510800@laswingfactory.com
SUMMARY:Pratique libre réservé La Swing Factory
DESCRIPTION:Pendant les vacances de l’école\, vous pouvez venir pratiquer et vous entraîner à QUIMPER. \nRéservées aux membres de La Swing Factory
URL:https://laswingfactory.com/agenda/pratique-libre-reserve-la-swing-factory/2019-03-13/
LOCATION:Salle Denise Larzul\, 3 allée Louise Michel\, Quimper\, 29000\, France
CATEGORIES:Evènement réservé à La Swing Factory
END:VEVENT
BEGIN:VEVENT
DTSTART;TZID=Europe/Paris:20181221T200000
DTEND;TZID=Europe/Paris:20181221T233000
DTSTAMP:20260419T164709
CREATED:20181201T094641Z
LAST-MODIFIED:20181205T144239Z
UID:10000180-1545422400-1545435000@laswingfactory.com
SUMMARY:Noël du Quinquis
DESCRIPTION:La Swing Factory organise pour ses élèves son Noël \nÉvènement réservé aux élèves de La Swing Factory.\nAuberge espagnole\nTenue chique !
URL:https://laswingfactory.com/agenda/noel-du-quinquis-reserve-uniquement-aux-membres-la-swing-factory-2018-2019/
LOCATION:Le Quinquis Fouesnant\, 19 chemin du quinquis\, Fouesnant\, 29170\, France
CATEGORIES:Evènement réservé à La Swing Factory
ATTACH;FMTTYPE=image/jpeg:https://laswingfactory.com/wp-content/uploads/2018/12/noel-la-swing-factory-quinquis-fouesnant.jpg
GEO:47°52'14.9"N;3°59'48.1"W
X-APPLE-STRUCTURED-LOCATION;VALUE=URI;X-ADDRESS=Le Quinquis Fouesnant 19 chemin du quinquis Fouesnant 29170 France;X-APPLE-RADIUS=500;X-TITLE=19 chemin du quinquis:geo:3°59'48.1"W,47°52'14.9"N
END:VEVENT
END:VCALENDAR